BEGIN:VCALENDAR
VERSION:2.0
PRODID:-//City Impact - ECPv6.15.20//NONSGML v1.0//EN
CALSCALE:GREGORIAN
METHOD:PUBLISH
X-WR-CALNAME:City Impact
X-ORIGINAL-URL:https://cityimpact.org
X-WR-CALDESC:Events for City Impact
REFRESH-INTERVAL;VALUE=DURATION:PT1H
X-Robots-Tag:noindex
X-PUBLISHED-TTL:PT1H
BEGIN:VTIMEZONE
TZID:America/New_York
BEGIN:DAYLIGHT
TZOFFSETFROM:-0500
TZOFFSETTO:-0400
TZNAME:EDT
DTSTART:20250309T070000
END:DAYLIGHT
BEGIN:STANDARD
TZOFFSETFROM:-0400
TZOFFSETTO:-0500
TZNAME:EST
DTSTART:20251102T060000
END:STANDARD
BEGIN:DAYLIGHT
TZOFFSETFROM:-0500
TZOFFSETTO:-0400
TZNAME:EDT
DTSTART:20260308T070000
END:DAYLIGHT
BEGIN:STANDARD
TZOFFSETFROM:-0400
TZOFFSETTO:-0500
TZNAME:EST
DTSTART:20261101T060000
END:STANDARD
BEGIN:DAYLIGHT
TZOFFSETFROM:-0500
TZOFFSETTO:-0400
TZNAME:EDT
DTSTART:20270314T070000
END:DAYLIGHT
BEGIN:STANDARD
TZOFFSETFROM:-0400
TZOFFSETTO:-0500
TZNAME:EST
DTSTART:20271107T060000
END:STANDARD
END:VTIMEZONE
BEGIN:VEVENT
DTSTART;TZID=America/New_York:20260224T170000
DTEND;TZID=America/New_York:20260224T190000
DTSTAMP:20260423T085919
CREATED:20260401T022233Z
LAST-MODIFIED:20260401T023802Z
UID:10000010-1771952400-1771959600@cityimpact.org
SUMMARY:Kingdom Kids (Spring Session)
DESCRIPTION:Embark your child on an exciting journey of faith\, fellowship\, and growth through Kingdom Kids! \nThrough our Kingdom Kids\, City Impact partners with parents in the discipleship of K– 12th-grade students to teach them to view themselves as God sees them and to help them develop the rhythms and discipline of a lifelong pursuit of Christ. \nKingdom Kids features playful activities\, prayer\, great Christian facilitators\, and an interactive game-based curriculum. \nRegistration is now open.
URL:https://cityimpact.org/event/kingdom-kids-spring-session/2026-02-24/
LOCATION:City Impact\, 1035 N 33rd Street\, Lincoln\, NE\, 68503\, United States
CATEGORIES:CI Kingdom Kids
END:VEVENT
BEGIN:VEVENT
DTSTART;TZID=America/New_York:20260223T150000
DTEND;TZID=America/New_York:20260223T170000
DTSTAMP:20260423T085919
CREATED:20260401T023403Z
LAST-MODIFIED:20260401T023914Z
UID:10000141-1771858800-1771866000@cityimpact.org
SUMMARY:CI Scholars (Spring 2026)
DESCRIPTION:Through CI Literacy\, we help children cultivate a love for reading\, enhance their critical thinking\, and strengthen their growth mindset through literary experiences. \nRegistration is now open.
URL:https://cityimpact.org/event/ci-scholars-spring-2026/2026-02-23/
LOCATION:City Impact\, 1035 N 33rd Street\, Lincoln\, NE\, 68503\, United States
CATEGORIES:CI Scholars
END:VEVENT
BEGIN:VEVENT
DTSTART;TZID=America/New_York:20260223T080000
DTEND;TZID=America/New_York:20260223T170000
DTSTAMP:20260423T085919
CREATED:20260401T022720Z
LAST-MODIFIED:20260401T024347Z
UID:10000075-1771833600-1771866000@cityimpact.org
SUMMARY:CI Literacy (Spring Session)
DESCRIPTION:Unlock your child’s limitless potential through CI Literacy\, where words become transformative adventures. \nThrough CI Literacy\, we help children cultivate a love for reading\, enhance their critical thinking\, and strengthen their growth mindset through literary experiences. \nRegistration is now open.
URL:https://cityimpact.org/event/ci-literacy-spring-session-2/2026-02-23/
LOCATION:City Impact\, 1035 N 33rd Street\, Lincoln\, NE\, 68503\, United States
CATEGORIES:CI Literacy
END:VEVENT
BEGIN:VEVENT
DTSTART;TZID=America/New_York:20260217T170000
DTEND;TZID=America/New_York:20260217T190000
DTSTAMP:20260423T085919
CREATED:20260401T022233Z
LAST-MODIFIED:20260401T023802Z
UID:10000009-1771347600-1771354800@cityimpact.org
SUMMARY:Kingdom Kids (Spring Session)
DESCRIPTION:Embark your child on an exciting journey of faith\, fellowship\, and growth through Kingdom Kids! \nThrough our Kingdom Kids\, City Impact partners with parents in the discipleship of K– 12th-grade students to teach them to view themselves as God sees them and to help them develop the rhythms and discipline of a lifelong pursuit of Christ. \nKingdom Kids features playful activities\, prayer\, great Christian facilitators\, and an interactive game-based curriculum. \nRegistration is now open.
URL:https://cityimpact.org/event/kingdom-kids-spring-session/2026-02-17/
LOCATION:City Impact\, 1035 N 33rd Street\, Lincoln\, NE\, 68503\, United States
CATEGORIES:CI Kingdom Kids
END:VEVENT
BEGIN:VEVENT
DTSTART;TZID=America/New_York:20260216T150000
DTEND;TZID=America/New_York:20260216T170000
DTSTAMP:20260423T085919
CREATED:20260401T023403Z
LAST-MODIFIED:20260401T023914Z
UID:10000140-1771254000-1771261200@cityimpact.org
SUMMARY:CI Scholars (Spring 2026)
DESCRIPTION:Through CI Literacy\, we help children cultivate a love for reading\, enhance their critical thinking\, and strengthen their growth mindset through literary experiences. \nRegistration is now open.
URL:https://cityimpact.org/event/ci-scholars-spring-2026/2026-02-16/
LOCATION:City Impact\, 1035 N 33rd Street\, Lincoln\, NE\, 68503\, United States
CATEGORIES:CI Scholars
END:VEVENT
BEGIN:VEVENT
DTSTART;TZID=America/New_York:20260216T080000
DTEND;TZID=America/New_York:20260216T170000
DTSTAMP:20260423T085919
CREATED:20260401T022720Z
LAST-MODIFIED:20260401T024347Z
UID:10000074-1771228800-1771261200@cityimpact.org
SUMMARY:CI Literacy (Spring Session)
DESCRIPTION:Unlock your child’s limitless potential through CI Literacy\, where words become transformative adventures. \nThrough CI Literacy\, we help children cultivate a love for reading\, enhance their critical thinking\, and strengthen their growth mindset through literary experiences. \nRegistration is now open.
URL:https://cityimpact.org/event/ci-literacy-spring-session-2/2026-02-16/
LOCATION:City Impact\, 1035 N 33rd Street\, Lincoln\, NE\, 68503\, United States
CATEGORIES:CI Literacy
END:VEVENT
BEGIN:VEVENT
DTSTART;TZID=America/New_York:20260210T170000
DTEND;TZID=America/New_York:20260210T190000
DTSTAMP:20260423T085919
CREATED:20260401T022233Z
LAST-MODIFIED:20260401T023802Z
UID:10000008-1770742800-1770750000@cityimpact.org
SUMMARY:Kingdom Kids (Spring Session)
DESCRIPTION:Embark your child on an exciting journey of faith\, fellowship\, and growth through Kingdom Kids! \nThrough our Kingdom Kids\, City Impact partners with parents in the discipleship of K– 12th-grade students to teach them to view themselves as God sees them and to help them develop the rhythms and discipline of a lifelong pursuit of Christ. \nKingdom Kids features playful activities\, prayer\, great Christian facilitators\, and an interactive game-based curriculum. \nRegistration is now open.
URL:https://cityimpact.org/event/kingdom-kids-spring-session/2026-02-10/
LOCATION:City Impact\, 1035 N 33rd Street\, Lincoln\, NE\, 68503\, United States
CATEGORIES:CI Kingdom Kids
END:VEVENT
BEGIN:VEVENT
DTSTART;TZID=America/New_York:20260209T150000
DTEND;TZID=America/New_York:20260209T170000
DTSTAMP:20260423T085919
CREATED:20260401T023403Z
LAST-MODIFIED:20260401T023914Z
UID:10000139-1770649200-1770656400@cityimpact.org
SUMMARY:CI Scholars (Spring 2026)
DESCRIPTION:Through CI Literacy\, we help children cultivate a love for reading\, enhance their critical thinking\, and strengthen their growth mindset through literary experiences. \nRegistration is now open.
URL:https://cityimpact.org/event/ci-scholars-spring-2026/2026-02-09/
LOCATION:City Impact\, 1035 N 33rd Street\, Lincoln\, NE\, 68503\, United States
CATEGORIES:CI Scholars
END:VEVENT
BEGIN:VEVENT
DTSTART;TZID=America/New_York:20260209T080000
DTEND;TZID=America/New_York:20260209T170000
DTSTAMP:20260423T085919
CREATED:20260401T022720Z
LAST-MODIFIED:20260401T024347Z
UID:10000073-1770624000-1770656400@cityimpact.org
SUMMARY:CI Literacy (Spring Session)
DESCRIPTION:Unlock your child’s limitless potential through CI Literacy\, where words become transformative adventures. \nThrough CI Literacy\, we help children cultivate a love for reading\, enhance their critical thinking\, and strengthen their growth mindset through literary experiences. \nRegistration is now open.
URL:https://cityimpact.org/event/ci-literacy-spring-session-2/2026-02-09/
LOCATION:City Impact\, 1035 N 33rd Street\, Lincoln\, NE\, 68503\, United States
CATEGORIES:CI Literacy
END:VEVENT
BEGIN:VEVENT
DTSTART;TZID=America/New_York:20260203T170000
DTEND;TZID=America/New_York:20260203T190000
DTSTAMP:20260423T085919
CREATED:20260401T022233Z
LAST-MODIFIED:20260401T023802Z
UID:10000007-1770138000-1770145200@cityimpact.org
SUMMARY:Kingdom Kids (Spring Session)
DESCRIPTION:Embark your child on an exciting journey of faith\, fellowship\, and growth through Kingdom Kids! \nThrough our Kingdom Kids\, City Impact partners with parents in the discipleship of K– 12th-grade students to teach them to view themselves as God sees them and to help them develop the rhythms and discipline of a lifelong pursuit of Christ. \nKingdom Kids features playful activities\, prayer\, great Christian facilitators\, and an interactive game-based curriculum. \nRegistration is now open.
URL:https://cityimpact.org/event/kingdom-kids-spring-session/2026-02-03/
LOCATION:City Impact\, 1035 N 33rd Street\, Lincoln\, NE\, 68503\, United States
CATEGORIES:CI Kingdom Kids
END:VEVENT
BEGIN:VEVENT
DTSTART;TZID=America/New_York:20260202T150000
DTEND;TZID=America/New_York:20260202T170000
DTSTAMP:20260423T085919
CREATED:20260401T023403Z
LAST-MODIFIED:20260401T023914Z
UID:10000138-1770044400-1770051600@cityimpact.org
SUMMARY:CI Scholars (Spring 2026)
DESCRIPTION:Through CI Literacy\, we help children cultivate a love for reading\, enhance their critical thinking\, and strengthen their growth mindset through literary experiences. \nRegistration is now open.
URL:https://cityimpact.org/event/ci-scholars-spring-2026/2026-02-02/
LOCATION:City Impact\, 1035 N 33rd Street\, Lincoln\, NE\, 68503\, United States
CATEGORIES:CI Scholars
END:VEVENT
BEGIN:VEVENT
DTSTART;TZID=America/New_York:20260202T080000
DTEND;TZID=America/New_York:20260202T170000
DTSTAMP:20260423T085919
CREATED:20260401T022720Z
LAST-MODIFIED:20260401T024347Z
UID:10000072-1770019200-1770051600@cityimpact.org
SUMMARY:CI Literacy (Spring Session)
DESCRIPTION:Unlock your child’s limitless potential through CI Literacy\, where words become transformative adventures. \nThrough CI Literacy\, we help children cultivate a love for reading\, enhance their critical thinking\, and strengthen their growth mindset through literary experiences. \nRegistration is now open.
URL:https://cityimpact.org/event/ci-literacy-spring-session-2/2026-02-02/
LOCATION:City Impact\, 1035 N 33rd Street\, Lincoln\, NE\, 68503\, United States
CATEGORIES:CI Literacy
END:VEVENT
BEGIN:VEVENT
DTSTART;TZID=America/New_York:20260127T170000
DTEND;TZID=America/New_York:20260127T190000
DTSTAMP:20260423T085919
CREATED:20260401T022233Z
LAST-MODIFIED:20260401T023802Z
UID:10000006-1769533200-1769540400@cityimpact.org
SUMMARY:Kingdom Kids (Spring Session)
DESCRIPTION:Embark your child on an exciting journey of faith\, fellowship\, and growth through Kingdom Kids! \nThrough our Kingdom Kids\, City Impact partners with parents in the discipleship of K– 12th-grade students to teach them to view themselves as God sees them and to help them develop the rhythms and discipline of a lifelong pursuit of Christ. \nKingdom Kids features playful activities\, prayer\, great Christian facilitators\, and an interactive game-based curriculum. \nRegistration is now open.
URL:https://cityimpact.org/event/kingdom-kids-spring-session/2026-01-27/
LOCATION:City Impact\, 1035 N 33rd Street\, Lincoln\, NE\, 68503\, United States
CATEGORIES:CI Kingdom Kids
END:VEVENT
BEGIN:VEVENT
DTSTART;TZID=America/New_York:20260126T150000
DTEND;TZID=America/New_York:20260126T170000
DTSTAMP:20260423T085919
CREATED:20260401T023403Z
LAST-MODIFIED:20260401T023914Z
UID:10000137-1769439600-1769446800@cityimpact.org
SUMMARY:CI Scholars (Spring 2026)
DESCRIPTION:Through CI Literacy\, we help children cultivate a love for reading\, enhance their critical thinking\, and strengthen their growth mindset through literary experiences. \nRegistration is now open.
URL:https://cityimpact.org/event/ci-scholars-spring-2026/2026-01-26/
LOCATION:City Impact\, 1035 N 33rd Street\, Lincoln\, NE\, 68503\, United States
CATEGORIES:CI Scholars
END:VEVENT
BEGIN:VEVENT
DTSTART;TZID=America/New_York:20260126T080000
DTEND;TZID=America/New_York:20260126T170000
DTSTAMP:20260423T085919
CREATED:20260401T022720Z
LAST-MODIFIED:20260401T024347Z
UID:10000071-1769414400-1769446800@cityimpact.org
SUMMARY:CI Literacy (Spring Session)
DESCRIPTION:Unlock your child’s limitless potential through CI Literacy\, where words become transformative adventures. \nThrough CI Literacy\, we help children cultivate a love for reading\, enhance their critical thinking\, and strengthen their growth mindset through literary experiences. \nRegistration is now open.
URL:https://cityimpact.org/event/ci-literacy-spring-session-2/2026-01-26/
LOCATION:City Impact\, 1035 N 33rd Street\, Lincoln\, NE\, 68503\, United States
CATEGORIES:CI Literacy
END:VEVENT
END:VCALENDAR